BEGIN:VCALENDAR
VERSION:2.0
PRODID:-//SWCK - ECPv6.15.20//NONSGML v1.0//EN
CALSCALE:GREGORIAN
METHOD:PUBLISH
X-WR-CALNAME:SWCK
X-ORIGINAL-URL:https://swck.org/wop/wordpress
X-WR-CALDESC:Händelser för SWCK
REFRESH-INTERVAL;VALUE=DURATION:PT1H
X-Robots-Tag:noindex
X-PUBLISHED-TTL:PT1H
BEGIN:VTIMEZONE
TZID:UTC
BEGIN:STANDARD
TZOFFSETFROM:+0000
TZOFFSETTO:+0000
TZNAME:UTC
DTSTART:20250101T000000
END:STANDARD
END:VTIMEZONE
BEGIN:VEVENT
DTSTART;VALUE=DATE:20260514
DTEND;VALUE=DATE:20260515
DTSTAMP:20260421T181822
CREATED:20260331T082347Z
LAST-MODIFIED:20260331T082347Z
UID:5674-1778716800-1778803199@swck.org
SUMMARY:Prova på vallning
DESCRIPTION:
URL:https://swck.org/wop/wordpress/?tribe_events=prova-pa-vallning
LOCATION:Ryggestalund\, Almunge/Uppsala
END:VEVENT
BEGIN:VEVENT
DTSTART;VALUE=DATE:20260516
DTEND;VALUE=DATE:20260517
DTSTAMP:20260421T181822
CREATED:20260331T082416Z
LAST-MODIFIED:20260331T082416Z
UID:5677-1778889600-1778975999@swck.org
SUMMARY:Prova på vallning
DESCRIPTION:
URL:https://swck.org/wop/wordpress/?tribe_events=prova-pa-vallning-2
LOCATION:Ryggestalund\, Almunge/Uppsala
END:VEVENT
BEGIN:VEVENT
DTSTART;VALUE=DATE:20260517
DTEND;VALUE=DATE:20260518
DTSTAMP:20260421T181822
CREATED:20260331T082450Z
LAST-MODIFIED:20260331T082450Z
UID:5679-1778976000-1779062399@swck.org
SUMMARY:NHAT - Vallanlagstest
DESCRIPTION:
URL:https://swck.org/wop/wordpress/?tribe_events=nhat-vallanlagstest
LOCATION:Ryggestalund\, Almunge/Uppsala
END:VEVENT
BEGIN:VEVENT
DTSTART;VALUE=DATE:20260904
DTEND;VALUE=DATE:20260905
DTSTAMP:20260421T181822
CREATED:20240909T155708Z
LAST-MODIFIED:20251006T151023Z
UID:4403-1788480000-1788566399@swck.org
SUMMARY:Eurocorgi 2026
DESCRIPTION:SPARA DATUMET! \nEURO CORGI 2026 \nDet är med stor glädje som Svenska Welsh Corgiklubben välkomnar alla cardigan- och pembrokeägare till Sverige och Euro Corgi 2026. \nDatum: 4 september \nUtställningsplats:  Runsten Equestrian\, Ridhusvägen 20\, 147 91 Grödinge\, Sweden\nMer info om platsen: Runsten Equestrian \nEn gemensam festmiddag kommer att anordnas efter dagens slut.  Domare meddelandas senare. \nMer information följer allteftersom men spara gärna datumet redan nu. \nI samband med Euro Corgi anordnar Svenska Kennelklubben Svensk Vinnare 2026 (5 september) och Europeisk Vinnare 2026  (6 september). Mer information om de utställningarna hittar ni på Svenska Kennelklubbens hemsida www.skk.se. \nHar du frågor? Kontakta oss via e-mail: Eurocorgi2026@gmail.com \nVarmt välkomna önskar arbetsgruppen för EuroCorgi 2026 och Svenska Welsh Corgiklubbens styrelse. \nSAVE THE DATE! \nEURO CORGI 2026   \nThe Swedish Welsh Corgi Club are delighted to welcome all Cardigan and Pembroke owners to Sweden and Euro Corgi 2026. \nDate: September 4\, 2026   Location:  Runsten Equestrian\, Ridhusvägen 20\, 147 91 Grödinge\, Sweden \nA gala dinner will be arranged in the evening after the show.   Judges to be disclosed at a later date. \nMore information to follow but please reserve the date already now to ensure that you can join the fun. \nIn connection with Euro Corgi\, the Swedish Kennel Club will organize Swedish Winner’26 on September 5 and European Winner’26 on September 6. More information about these shows can be found on the Swedish Kennel Club’s website www.skk.se. \nFor any questions\, please contact us via this mail: Eurocorgi2026@gmail.com \nA warm welcome from the EuroCorgi 2026 team and the board of the Swedish Welsh Corgi Club.
URL:https://swck.org/wop/wordpress/?tribe_events=eurocorgi-2026
END:VEVENT
BEGIN:VEVENT
DTSTART;VALUE=DATE:20260905
DTEND;VALUE=DATE:20260906
DTSTAMP:20260421T181822
CREATED:20241010T122421Z
LAST-MODIFIED:20250121T173811Z
UID:4423-1788566400-1788652799@swck.org
SUMMARY:Svensk Vinnare 2026
DESCRIPTION:Lördagen den 5 september arrangerar Svenska Kennelklubben Svensk Vinnarutställning 2026 på Älvsjömässan i Stockholm. \nSWEDISH WINNER SHOW DOMARE\nEn internationell FCI utställning där vinnande hundar erhåller vinnartitlarna: \n\nSvensk Vinnare 2026\, SE V-26\nSvensk Juniorvinnare 2026\, SE JV-26\nSvensk Veteranvinnare 2026\, SE VV-26\n\nMer info:European dog show 2026 | EDS2026 (skk.se)\nDOMARE \n\n\n\n\nWelsh Corgi Cardigan\n\n\nNina Lönner-Andersson\nSverige / Sweden\n\n\n\n\n\n\n\n\n\n\n\nWelsh Corgi Pembroke\n\n\nJörgen Hindse\nDanmark / Denmark
URL:https://swck.org/wop/wordpress/?tribe_events=svensk-vinnare-2026
END:VEVENT
BEGIN:VEVENT
DTSTART;VALUE=DATE:20260906
DTEND;VALUE=DATE:20260907
DTSTAMP:20260421T181822
CREATED:20241010T122612Z
LAST-MODIFIED:20241010T123428Z
UID:4425-1788652800-1788739199@swck.org
SUMMARY:EUROPEAN DOG SHOW
DESCRIPTION:Den 6 september arrangerar Svenska Kennelklubbens EDS i Stokholm! \nEUROPEAN DOG SHOW DOMARE\nEn internationell FCI utställning där vinnande hundar av ras erkänd av FCI erhåller vinnartitlarna: \n\nFCI Europavinnare 2026\, EUW-26\nFCI Junioreuropavinnare 2026\, JEUW-26\nFCI Veteraneuropavinnare 2026\, VEUW-26\nMer info- European dog show 2026 | EDS2026 (skk.se)  \nDOMARE\n\n\n\n\n\n\nWelsh Corgi Cardigan\nJohan Andersson (juniorklass + veteranklass) / (junior class + veteran class)\nSverige / Sweden\n\n\n\n\n\n Welsh Corgi Cardigan\nAnnika Ulltveit-Moe (vuxna + BIR) / (adults + BOB)\nSverige / Sweden\n\n\n\n\n\nWelsh Corgi Pembroke\nBeata Petkevica (juniorklass + veteranklass) / (junior class + veteran class)\nLettland / Latvia\n\n\n\n\n\nWelsh Corgi Pembroke\nMatti Tuominen (vuxna + BIR) / (adults + BOB)\nFinland
URL:https://swck.org/wop/wordpress/?tribe_events=european-dog-show
END:VEVENT
BEGIN:VEVENT
DTSTART;VALUE=DATE:20261003
DTEND;VALUE=DATE:20261004
DTSTAMP:20260421T181822
CREATED:20260331T082519Z
LAST-MODIFIED:20260331T082519Z
UID:5681-1790985600-1791071999@swck.org
SUMMARY:Prova på vallning
DESCRIPTION:
URL:https://swck.org/wop/wordpress/?tribe_events=prova-pa-vallning-3
LOCATION:Ryggestalund\, Almunge/Uppsala
END:VEVENT
BEGIN:VEVENT
DTSTART;VALUE=DATE:20261004
DTEND;VALUE=DATE:20261005
DTSTAMP:20260421T181822
CREATED:20260331T082549Z
LAST-MODIFIED:20260331T082549Z
UID:5683-1791072000-1791158399@swck.org
SUMMARY:NHAT - Vallanglastest
DESCRIPTION:
URL:https://swck.org/wop/wordpress/?tribe_events=nhat-vallanglastest
LOCATION:Ryggestalund\, Almunge/Uppsala
END:VEVENT
END:VCALENDAR